BEGIN:VCALENDAR
VERSION:2.0
PRODID:-//wp-events-plugin.com//7.2.3.1//EN
TZID:America/New_York
X-WR-TIMEZONE:America/New_York
BEGIN:VEVENT
UID:94@lymedrc.org
DTSTART;TZID=America/New_York:20260429T134500
DTEND;TZID=America/New_York:20260429T151500
DTSTAMP:20260413T182804Z
URL:https://www.lymedrc.org/events/dr-robert-fox-0-d-fovdr-neuro-vision-is
 sues-and-lyme-disease/
SUMMARY:Dr. Robert Fox O.D.\, FOVDR - Neuro-vision issues and Lyme Disease
DESCRIPTION:April 29th at 1:45pm ET\nVirtual Doors open at 1:30pm ET\n\nREG
 ISTER HERE\nLyme is very common in the northeast United States. Neuro-visi
 on issues are becoming more recognized. Vision issues sees in both acute a
 nd chronic cases Neuro-optometric services involve both testing and treatm
 ent. This presentation will discuss the more common neuro-vision issues. T
 reatment options will be discussed. These can include glasses\, prisms\, p
 hotobiomodulation\, and neuro-vision therapy. Sources for more information
  will also be discussed.\n\n\n\nDr. Robert Fox O.D.\, FOVDR has been in pr
 actice in the Capital Region Area since 1986. He is a graduate of Renssela
 er Polytechnic Institute and the SUNY College of Optometry. Dr. Fox has al
 so completed a residency in Rehabilitative Optometry at the Northport VA M
 edical Center on Long Island. Dr. Fox is a Fellow of the College of Optome
 trists in Vision Development (FOVDR). As a Fellow\, he has passed a series
  of rigorous examinations to be board certified in Vision Therapy and Visi
 on Development. Dr. Fox is a charter member of the Neuro-Optometric Rehabi
 litation Association (NORA). Dr. Fox is also a Fellow of the College of Sy
 ntonic Optometry (FCSO) and is a member of the New York State Optometric A
 ssociation. Dr. Fox is originally from Long Island and now lives in Schene
 ctady with his wife\, Randy. Dr. Fox and his wife have two grown daughters
  who live in the Capital Region as well. In addition to all his work to st
 ay active in the numerous Optometric organizations\, he is also a Rotarian
  and a licensed HAM radio operator. Dr. Fox also enjoys playing hockey\, c
 amping\, and is an avid movie buff.\n\n&nbsp\;
ATTACH;FMTTYPE=image/jpeg:https://www.lymedrc.org/wp-content/uploads/2026/
 04/Screenshot-2026-03-27-at-09-24-58-Developmental-Optometrists-in-Latham-
 NY-Fox-Vision-Development-Center.png
CATEGORIES:Educational Series
END:VEVENT
BEGIN:VTIMEZONE
TZID:America/New_York
X-LIC-LOCATION:America/New_York
BEGIN:DAYLIGHT
DTSTART:20260308T030000
TZOFFSETFROM:-0500
TZOFFSETTO:-0400
TZNAME:EDT
END:DAYLIGHT
END:VTIMEZONE
END:VCALENDAR